BEGIN:VCALENDAR
VERSION:2.0
PRODID:icalendar-ruby
CALSCALE:GREGORIAN
METHOD:PUBLISH
BEGIN:VEVENT
DTSTAMP:20260423T025920Z
UID:7-408469@harvestfamily.tithelysetup2.com
DTSTART:20260425T170000Z
DTEND:20260426T000000Z
CLASS:PUBLIC
CREATED:20260422T152750
DESCRIPTION:
LAST-MODIFIED:20260422T152750
LOCATION:lufkin
SUMMARY:Rags to Worth Giveaway
URL;VALUE=URI:https://harvestfamily.tithelysetup2.com/events/rags-to-worth-
 giveaway--7/2026-04-25
END:VEVENT
END:VCALENDAR
