BEGIN:VCALENDAR
VERSION:2.0
PRODID:icalendar-ruby
CALSCALE:GREGORIAN
METHOD:PUBLISH
BEGIN:VEVENT
DTSTAMP:20260423T043924Z
UID:5-408440@harvestfamily.tithelysetup2.com
DTSTART:20260426T170000Z
DTEND:20260426T180000Z
CLASS:PUBLIC
CREATED:20260422T122430
DESCRIPTION:Sunday Worship
LAST-MODIFIED:20260422T122430
LOCATION:
SUMMARY:Sunday Worship
URL;VALUE=URI:https://harvestfamily.tithelysetup2.com/events/sunday-worship
 /2026-04-26
END:VEVENT
END:VCALENDAR
