BEGIN:VCALENDAR
VERSION:2.0
PRODID:icalendar-ruby
CALSCALE:GREGORIAN
METHOD:PUBLISH
BEGIN:VEVENT
DTSTAMP:20260424T043807Z
UID:5-408454@harvestfamily.tithelysetup2.com
DTSTART:20260802T150000Z
DTEND:20260802T160000Z
CLASS:PUBLIC
CREATED:20260422T142431
DESCRIPTION:Sunday Worship
LAST-MODIFIED:20260422T142431
LOCATION:
SUMMARY:Sunday Worship
URL;VALUE=URI:https://harvestfamily.tithelysetup2.com/events/sunday-worship
 /2026-08-02
END:VEVENT
END:VCALENDAR
