BEGIN:VCALENDAR
VERSION:2.0
PRODID:icalendar-ruby
CALSCALE:GREGORIAN
METHOD:PUBLISH
BEGIN:VEVENT
DTSTAMP:20260424T221453Z
UID:5-408464@harvestfamily.tithelysetup2.com
DTSTART:20261011T150000Z
DTEND:20261011T160000Z
CLASS:PUBLIC
CREATED:20260422T142431
DESCRIPTION:Sunday Worship
LAST-MODIFIED:20260422T142431
LOCATION:
SUMMARY:Sunday Worship
URL;VALUE=URI:https://harvestfamily.tithelysetup2.com/events/sunday-worship
 /2026-10-11
END:VEVENT
END:VCALENDAR
